BEGIN:VCALENDAR
VERSION:2.0
PRODID:-//Danaerial - ECPv6.15.20//NONSGML v1.0//EN
CALSCALE:GREGORIAN
METHOD:PUBLISH
X-WR-CALNAME:Danaerial
X-ORIGINAL-URL:https://danaerial.com
X-WR-CALDESC:Events for Danaerial
REFRESH-INTERVAL;VALUE=DURATION:PT1H
X-Robots-Tag:noindex
X-PUBLISHED-TTL:PT1H
BEGIN:VTIMEZONE
TZID:UTC
BEGIN:STANDARD
TZOFFSETFROM:+0000
TZOFFSETTO:+0000
TZNAME:UTC
DTSTART:20240101T000000
END:STANDARD
END:VTIMEZONE
BEGIN:VEVENT
DTSTART;VALUE=DATE:20250827
DTEND;VALUE=DATE:20250901
DTSTAMP:20260421T110030
CREATED:20250429T110749Z
LAST-MODIFIED:20250508T091204Z
UID:528-1756252800-1756684799@danaerial.com
SUMMARY:Workshops Iron Comment Camp Katowice\, Poland
DESCRIPTION:
URL:https://danaerial.com/event/workshops-iron-comment-camp-katowice-poland/
ATTACH;FMTTYPE=image/png:https://danaerial.com/wp-content/uploads/2025/04/iron_convent_logo.png
END:VEVENT
END:VCALENDAR