BEGIN:VCALENDAR
VERSION:2.0
PRODID:-//Danaerial - ECPv6.15.13.1//NONSGML v1.0//EN
CALSCALE:GREGORIAN
METHOD:PUBLISH
X-WR-CALNAME:Danaerial
X-ORIGINAL-URL:https://danaerial.com
X-WR-CALDESC:Events for Danaerial
REFRESH-INTERVAL;VALUE=DURATION:PT1H
X-Robots-Tag:noindex
X-PUBLISHED-TTL:PT1H
BEGIN:VTIMEZONE
TZID:UTC
BEGIN:STANDARD
TZOFFSETFROM:+0000
TZOFFSETTO:+0000
TZNAME:UTC
DTSTART:20240101T000000
END:STANDARD
END:VTIMEZONE
BEGIN:VEVENT
DTSTART;VALUE=DATE:20251026
DTEND;VALUE=DATE:20251031
DTSTAMP:20260421T091227
CREATED:20250429T111008Z
LAST-MODIFIED:20250429T111008Z
UID:539-1761436800-1761868799@danaerial.com
SUMMARY:Workshops Mountain Pole camp Brand\, Vorarlberg\, Austria
DESCRIPTION:
URL:https://danaerial.com/event/workshops-mountain-pole-camp-brand-vorarlberg-austria/
END:VEVENT
END:VCALENDAR