BEGIN:VCALENDAR
VERSION:2.0
PRODID:-//Danaerial - ECPv6.15.20//NONSGML v1.0//EN
CALSCALE:GREGORIAN
METHOD:PUBLISH
X-WR-CALNAME:Danaerial
X-ORIGINAL-URL:https://danaerial.com
X-WR-CALDESC:Events for Danaerial
REFRESH-INTERVAL;VALUE=DURATION:PT1H
X-Robots-Tag:noindex
X-PUBLISHED-TTL:PT1H
BEGIN:VTIMEZONE
TZID:UTC
BEGIN:STANDARD
TZOFFSETFROM:+0000
TZOFFSETTO:+0000
TZNAME:UTC
DTSTART:20240101T000000
END:STANDARD
END:VTIMEZONE
BEGIN:VEVENT
DTSTART;VALUE=DATE:20250811
DTEND;VALUE=DATE:20250815
DTSTAMP:20260423T104821
CREATED:20250429T110722Z
LAST-MODIFIED:20250429T110722Z
UID:526-1754870400-1755215999@danaerial.com
SUMMARY:Workshops Zante Pole camp Zante\, Greece
DESCRIPTION:
URL:https://danaerial.com/event/workshops-zante-pole-camp-zante-greece/
END:VEVENT
END:VCALENDAR